BEGIN:VCALENDAR
VERSION:2.0
PRODID:-//Cercle de Belles Arts de Palma - ECPv6.15.20//NONSGML v1.0//EN
CALSCALE:GREGORIAN
METHOD:PUBLISH
X-ORIGINAL-URL:https://www.circulopalma.es
X-WR-CALDESC:Eventos para Cercle de Belles Arts de Palma
REFRESH-INTERVAL;VALUE=DURATION:PT1H
X-Robots-Tag:noindex
X-PUBLISHED-TTL:PT1H
BEGIN:VTIMEZONE
TZID:UTC
BEGIN:STANDARD
TZOFFSETFROM:+0000
TZOFFSETTO:+0000
TZNAME:UTC
DTSTART:20250101T000000
END:STANDARD
END:VTIMEZONE
BEGIN:VEVENT
DTSTART;TZID=UTC:20260414T123000
DTEND;TZID=UTC:20260414T133000
DTSTAMP:20260422T115842
CREATED:20260414T083818Z
LAST-MODIFIED:20260414T083818Z
UID:14048-1776169800-1776173400@www.circulopalma.es
SUMMARY:Rueda de prensa de Emanuel Navarro D’Garem
DESCRIPTION:El próximo martes 14 de abril a las 12:30 h en la sede del CBA\, el pintor\, actor y poeta Emanuel Navarro D’Garem realizará una rueda de prensa para presentar su próxima exposición de pintura\, escultura y la proyección de su cortometraje Renacer. \nEstáis todos invitados.
URL:https://www.circulopalma.es/agenda/rueda-de-prensa-de-emanuel-navarro-dgarem/
LOCATION:Círculo de Bellas Artes Palma\, Unió 3\,\, Palma\, Illes Balears\, 07001\, Spain
CATEGORIES:Rueda de prensa
ATTACH;FMTTYPE=image/jpeg:https://www.circulopalma.es/wp-content/uploads/2026/04/emanuel.jpeg
END:VEVENT
END:VCALENDAR