BEGIN:VCALENDAR
VERSION:2.0
PRODID:-//Cercle de Belles Arts de Palma - ECPv6.15.20//NONSGML v1.0//EN
CALSCALE:GREGORIAN
METHOD:PUBLISH
X-ORIGINAL-URL:https://www.circulopalma.es
X-WR-CALDESC:Eventos para Cercle de Belles Arts de Palma
REFRESH-INTERVAL;VALUE=DURATION:PT1H
X-Robots-Tag:noindex
X-PUBLISHED-TTL:PT1H
BEGIN:VTIMEZONE
TZID:UTC
BEGIN:STANDARD
TZOFFSETFROM:+0000
TZOFFSETTO:+0000
TZNAME:UTC
DTSTART:20250101T000000
END:STANDARD
END:VTIMEZONE
BEGIN:VEVENT
DTSTART;TZID=UTC:20260416T190000
DTEND;TZID=UTC:20260416T203000
DTSTAMP:20260422T115842
CREATED:20260329T141335Z
LAST-MODIFIED:20260329T141335Z
UID:13958-1776366000-1776371400@www.circulopalma.es
SUMMARY:Presentació del llibre «Plorant llops» de Llorenç Garrit
DESCRIPTION:Presentació del llibre\n«Plorant llops» de Llorenç Garrit. \nPresenta: Xisco Barceló\nIntervindran: Maria Mesquida Artigues\, Joan Xoxa\, Pato Conde i l’autor Llorenç Garrit. \nDia 16 d’abril de 2026 a les 19 h. a la seu del Cercle de Belles Arts de Palma\nC. Unió 3\, planta 2\, Palma
URL:https://www.circulopalma.es/agenda/presentacio-del-llibre-plorant-llops-de-llorenc-garrit/
LOCATION:Círculo de Bellas Artes Palma\, Unió 3\,\, Palma\, Illes Balears\, 07001\, Spain
CATEGORIES:Literatura
ATTACH;FMTTYPE=image/jpeg:https://www.circulopalma.es/wp-content/uploads/2026/03/cba_garrit.jpg
END:VEVENT
END:VCALENDAR